BEGIN:VCALENDAR
VERSION:2.0
PRODID:-//hacksw/handcal//NONSGML v1.0//EN
CALSCALE:GREGORIAN
BEGIN:VTIMEZONE
TZID:America/Chicago
BEGIN:DAYLIGHT
TZOFFSETFROM:-0600
TZNAME:MDT
TZOFFSETTO:-0600
END:DAYLIGHT
END:VTIMEZONE
DTSTAMP:20260423T010730Z
UID:69e9b722303d7
BEGIN:VEVENT
LOCATION:Park Forest Public Library, 400 Lakewood Blvd, Park Forest, IL US 60466
DESCRIPTION:<p>Join us for a ribbon cutting event celebrating our Library of Things! Enjoy light refreshments and learn more about how you can take advantage of our Library of Things.&nbsp;</p><p><strong>No registration is required.</strong></p>
DTSTART;TZID=America/Chicago:20260425T140000
DTEND;TZID=America/Chicago:20260425T150000
SUMMARY:Library of Things Ribbon Cutting
URL;VALUE=URI:/library-things-ribbon-cutting-0
END:VEVENT
END:VCALENDAR