BEGIN:VCALENDAR
VERSION:2.0
PRODID:-//hacksw/handcal//NONSGML v1.0//EN
CALSCALE:GREGORIAN
BEGIN:VTIMEZONE
TZID:America/Chicago
BEGIN:DAYLIGHT
TZOFFSETFROM:-0600
TZNAME:MDT
TZOFFSETTO:-0600
END:DAYLIGHT
END:VTIMEZONE
DTSTAMP:20260423T011756Z
UID:69e9b99431d15
BEGIN:VEVENT
LOCATION:Park Forest Public Library, 400 Lakewood Blvd, Park Forest, IL US 60466
DESCRIPTION:<h2 class="text-align-center">Diamond Art Club- Adults &amp; Seniors</h2><h3 class="text-align-center">-In person at 12:00pm - 2:00pm-</h3><p class="text-align-center">&nbsp;</p><h3 class="text-align-center">Registration is Required.</h3><h3 class="text-align-center">Registration will open on April 16th</h3><p class="text-align-center">&nbsp;</p><p class="text-align-center">&nbsp;</p><h3 class="text-align-center">Are you a FAN of Diamond Art, or are you curious about what it is? Come join us for a FUN-FILLED afternoon of Diamond Painting! Diamond Painting has proven to be incredibly relaxing and enjoyable.</h3><p class="text-align-center">&nbsp;</p><h3 class="text-align-center">Projects and supplies are provided, or you can bring something you're already working on!</h3><p class="text-align-center">&nbsp;</p><h3 class="text-align-center">Diamond Art Club meets every other month on designated Thursdays.</h3><p class="text-align-center">&nbsp;</p><h3 class="text-align-center">New to Diamond Art and want to learn more? Click the link to discover this AWESOME craft! <a href="https://www.youtube.com/watch?v=jb024uJeO-Q">https://www.youtube.com/watch?v=jb024uJeO-Q</a></h3><p class="text-align-center">&nbsp;</p><p class="text-align-center">&nbsp;</p>
DTSTART;TZID=America/Chicago:20260423T120000
DTEND;TZID=America/Chicago:20260423T140000
SUMMARY:Diamond Art Club for Adults and Seniors
URL;VALUE=URI:/diamond-art-club-adults-and-seniors-0
END:VEVENT
END:VCALENDAR