BEGIN:VCALENDAR
VERSION:2.0
PRODID:-//hacksw/handcal//NONSGML v1.0//EN
CALSCALE:GREGORIAN
BEGIN:VTIMEZONE
TZID:America/Chicago
BEGIN:DAYLIGHT
TZOFFSETFROM:-0600
TZNAME:MDT
TZOFFSETTO:-0600
END:DAYLIGHT
END:VTIMEZONE
DTSTAMP:20260421T073723Z
UID:69e76f83b6d22
BEGIN:VEVENT
LOCATION:Park Forest Public Library, 400 Lakewood Blvd, Park Forest, IL US 60466
DESCRIPTION:<div>Egg-citing Easter Eggs</div><div>&nbsp;</div><div>Get ready for an egg-citing time full of color, creativity, and Easter fun! Kids will have the chance to decorate their very own wooden eggs using bright colors, stickers, and lots of imagination. From polka dots and stripes to silly faces and spring designs, every egg will become a one-of-a-kind masterpiece! Available to do on-site on take home. <strong>Available on a first come, first served basis--<u>while supplies last!</u></strong></div><div><br>&nbsp;</div>
DTSTART;TZID=America/Chicago:20260330T100000
DTEND;TZID=America/Chicago:20260330T170000
SUMMARY:Egg-citing Easter Eggs for Kids & Teens
URL;VALUE=URI:/egg-citing-easter-eggs-0
END:VEVENT
END:VCALENDAR