BEGIN:VCALENDAR
VERSION:2.0
PRODID:-//hacksw/handcal//NONSGML v1.0//EN
CALSCALE:GREGORIAN
BEGIN:VTIMEZONE
TZID:America/Chicago
BEGIN:DAYLIGHT
TZOFFSETFROM:-0600
TZNAME:MDT
TZOFFSETTO:-0600
END:DAYLIGHT
END:VTIMEZONE
DTSTAMP:20260423T051640Z
UID:69e9f188b5d11
BEGIN:VEVENT
LOCATION:Park Forest Public Library, 400 Lakewood Blvd, Park Forest, IL US 60466
DESCRIPTION:<p class="isSelectedEnd"><span><strong>Celebrate Earth Day at the library! </strong>Drop in for a fun <strong>Earth Day Pop-Up Craft</strong> for kids &amp; teens. Young creators can make a simple, Earth-inspired craft while learning about caring for our planet. This drop-in activity is perfect for families looking for a quick, creative way to celebrate Earth Day together.</span></p><p><span><strong><u>No registration required. While supplies last.</u></strong></span></p>
DTSTART;TZID=America/Chicago:20260422T100000
DTEND;TZID=America/Chicago:20260422T190000
SUMMARY:Earth Day Pop-Up Crafts for Kids & Teens
URL;VALUE=URI:/earth-day-pop-crafts-kids-teens-0
END:VEVENT
END:VCALENDAR