BEGIN:VCALENDAR
VERSION:2.0
PRODID:-//hacksw/handcal//NONSGML v1.0//EN
CALSCALE:GREGORIAN
BEGIN:VTIMEZONE
TZID:America/Chicago
BEGIN:DAYLIGHT
TZOFFSETFROM:-0600
TZNAME:MDT
TZOFFSETTO:-0600
END:DAYLIGHT
END:VTIMEZONE
DTSTAMP:20260423T051947Z
UID:69e9f243afa40
BEGIN:VEVENT
LOCATION:Park Forest Public Library, 400 Lakewood Blvd, Park Forest, IL US 60466
DESCRIPTION:<p>Participants of all ages are welcome to join us for Project Bloom: A National Poetry Month &amp; Earth Day Creative Writing Experience! Hosted by Airregina Clay of Brilliant Ideas House.&nbsp;</p><p>This learning experience is aimed at anyone seeking to engage in a meaningful earth day activity while channeling some creativity. We will learn about the history and importance of Earth Day, explore nature themed poetry, and write our own Earth Day inspired poem.&nbsp;</p><p><strong>Registration is required.</strong></p>
DTSTART;TZID=America/Chicago:20260425T120000
DTEND;TZID=America/Chicago:20260425T140000
SUMMARY:Project Bloom: A National Poetry Month & Earth Day Creative Writing Experience for All Ages
URL;VALUE=URI:/project-bloom-national-poetry-month-earth-day-creative-writing-experience-all-ages-0
END:VEVENT
END:VCALENDAR